BEGIN:VCALENDAR
VERSION:2.0
PRODID:-//Wexford Motor Club - ECPv6.15.20//NONSGML v1.0//EN
CALSCALE:GREGORIAN
METHOD:PUBLISH
X-WR-CALNAME:Wexford Motor Club
X-ORIGINAL-URL:https://wexfordmotorclub.ie
X-WR-CALDESC:Events for Wexford Motor Club
REFRESH-INTERVAL;VALUE=DURATION:PT1H
X-Robots-Tag:noindex
X-PUBLISHED-TTL:PT1H
BEGIN:VTIMEZONE
TZID:Europe/Paris
BEGIN:DAYLIGHT
TZOFFSETFROM:+0100
TZOFFSETTO:+0200
TZNAME:CEST
DTSTART:20160327T010000
END:DAYLIGHT
BEGIN:STANDARD
TZOFFSETFROM:+0200
TZOFFSETTO:+0100
TZNAME:CET
DTSTART:20161030T010000
END:STANDARD
BEGIN:DAYLIGHT
TZOFFSETFROM:+0100
TZOFFSETTO:+0200
TZNAME:CEST
DTSTART:20170326T010000
END:DAYLIGHT
BEGIN:STANDARD
TZOFFSETFROM:+0200
TZOFFSETTO:+0100
TZNAME:CET
DTSTART:20171029T010000
END:STANDARD
BEGIN:DAYLIGHT
TZOFFSETFROM:+0100
TZOFFSETTO:+0200
TZNAME:CEST
DTSTART:20180325T010000
END:DAYLIGHT
BEGIN:STANDARD
TZOFFSETFROM:+0200
TZOFFSETTO:+0100
TZNAME:CET
DTSTART:20181028T010000
END:STANDARD
END:VTIMEZONE
BEGIN:VEVENT
DTSTART;TZID=Europe/Paris:20170818T090000
DTEND;TZID=Europe/Paris:20170819T170000
DTSTAMP:20260424T152840
CREATED:20150127T113852Z
LAST-MODIFIED:20190504T131600Z
UID:79-1503046800-1503162000@wexfordmotorclub.ie
SUMMARY:Hillclimb/Sprint
DESCRIPTION:Welcome to our Hillclimb / Sprint Page \nEvent: David Byrne Auto Repairs\, Wexford Motor’s Club Hillclimb 2019 \nDates: 18th and 19th May 2019 \nLocation: Ballyanne\, New Ross\, Co. Wexford \nRegs: David Byrne Auto Repairs Wexford Motor Club’s Hillclimb 2019 \nEntry Form: David Byrne Auto Repairs\, Wexford-Motor Club’s Hill 2019 \n\nEntry Fee – Online Payment option\nClick on your prefered option below to make online payment \n2 Day Entry Fee \n1 Day Entry Fee \n  \n  \n  \n  \n__________________________________________________________________ \nWelcome to our Hillclimb / Sprint Page \n2018 Event will take place on the 18th & 19th August 2018 \n2018 Regs: Wexford Hillclimb Regs \n2018 Entry form: Wexford Hillclimb entry form \n__________________________________________________________________ \n2017 will see our Hillclimb back in Carrig On Bannow for Round 3 & 4 of The Naylor Engineering National Irish Hillcimb Championship. \nEnter online: http://www.shannonsportsit.ie/evo/Login?event=IE-WXFD-HC17 \nRegs available here: Wexford-Motorclubs-Hillclimb-Regs-2017 \nEntry Form available here: Wexford-Motorclubs- Hill-entry-form-2017 \nVideo of the hill below: \nhttps://www.youtube.com/watch?v=tpoChqkijtU&feature=youtu.be \n \n  \n  \n  \n  \n  \n  \n  \n  \n  \n  \n  \n  \nEvent Venue: Carrig On Bannow – Sat 20th May Course length 2\,2km / Sunday 21st May Course length 1.850 \n Entries Open: On Posting of Regs  \nEntries Close: Wednesday the 17th of May 2017 (For Publicity Purposes / Entries will be received after this date provided there is space available. \nEntries are limited to 85 each day. Hence entries will be taken on a first come first served basis. \n TIMETABLE  \nMechanical and Document Scrutiny in the Paddock                                    7.00 am – 8.50a.m. \nDriver’s briefing –    In Paddock (Both mornings)                                        9.00 a.m. \nRoad Closed both days                                                                               9.00 a.m. – 6.00 p.m. \nPractice Run Day 1                                                                                      10.00 a.m. \n1st Timed run approx day 1                                                                          11.15 a.m \nPractice Run Day 2                                                                                      10.00 a.m. \n1st Timed run approx day 2                                                                          11.15 a.m \nOur intention is to give a minimum of 3 timed runs each day. \nFinish Approx                                                                                             5.30 p.m. \n—————————————————————————————————————- \n 
URL:https://wexfordmotorclub.ie/event/hillclimbsprint/
LOCATION:Carrig On Bannow\, Carrig On Bannow\, Wellingtonbridge\, Wexford\, Ireland
END:VEVENT
END:VCALENDAR